BEGIN:VCALENDAR
VERSION:2.0
PRODID:-//Strana zelených Moravskoslezský kraj - ECPv6.15.16//NONSGML v1.0//EN
CALSCALE:GREGORIAN
METHOD:PUBLISH
X-WR-CALNAME:Strana zelených Moravskoslezský kraj
X-ORIGINAL-URL:https://www.zeleni-msk.cz
X-WR-CALDESC:Akce na Strana zelených Moravskoslezský kraj
REFRESH-INTERVAL;VALUE=DURATION:PT1H
X-Robots-Tag:noindex
X-PUBLISHED-TTL:PT1H
BEGIN:VTIMEZONE
TZID:Europe/Paris
BEGIN:DAYLIGHT
TZOFFSETFROM:+0100
TZOFFSETTO:+0200
TZNAME:CEST
DTSTART:20190331T010000
END:DAYLIGHT
BEGIN:STANDARD
TZOFFSETFROM:+0200
TZOFFSETTO:+0100
TZNAME:CET
DTSTART:20191027T010000
END:STANDARD
BEGIN:DAYLIGHT
TZOFFSETFROM:+0100
TZOFFSETTO:+0200
TZNAME:CEST
DTSTART:20200329T010000
END:DAYLIGHT
BEGIN:STANDARD
TZOFFSETFROM:+0200
TZOFFSETTO:+0100
TZNAME:CET
DTSTART:20201025T010000
END:STANDARD
BEGIN:DAYLIGHT
TZOFFSETFROM:+0100
TZOFFSETTO:+0200
TZNAME:CEST
DTSTART:20210328T010000
END:DAYLIGHT
BEGIN:STANDARD
TZOFFSETFROM:+0200
TZOFFSETTO:+0100
TZNAME:CET
DTSTART:20211031T010000
END:STANDARD
END:VTIMEZONE
BEGIN:VEVENT
DTSTART;TZID=Europe/Paris:20200114T170000
DTEND;TZID=Europe/Paris:20200114T200000
DTSTAMP:20260421T104830
CREATED:20200105T190030Z
LAST-MODIFIED:20200105T193934Z
UID:2989-1579021200-1579032000@www.zeleni-msk.cz
SUMMARY:Krajská konference Zelených MSK
DESCRIPTION:14. ledna 2020 v Opavě \nKonference členů a členek Strany zelených v Moravskoslezském kraji. \nPro více informací kontaktujte Martinu Duškovou martina.duskova@zeleni.cz
URL:https://www.zeleni-msk.cz/event/krajska-konference-zelenych-v-moravskoslezskem-kraji/
END:VEVENT
END:VCALENDAR